BEGIN:VCALENDAR
VERSION:2.0
PRODID:-//Asian Studies - ECPv6.15.16//NONSGML v1.0//EN
CALSCALE:GREGORIAN
METHOD:PUBLISH
X-ORIGINAL-URL:https://yonseias.com
X-WR-CALDESC:Events for Asian Studies
REFRESH-INTERVAL;VALUE=DURATION:PT1H
X-Robots-Tag:noindex
X-PUBLISHED-TTL:PT1H
BEGIN:VTIMEZONE
TZID:Asia/Seoul
BEGIN:STANDARD
TZOFFSETFROM:+0900
TZOFFSETTO:+0900
TZNAME:KST
DTSTART:20250101T000000
END:STANDARD
END:VTIMEZONE
BEGIN:VEVENT
DTSTART;TZID=Asia/Seoul:20260311T170000
DTEND;TZID=Asia/Seoul:20260311T183000
DTSTAMP:20260422T020241
CREATED:20260221T010839Z
LAST-MODIFIED:20260221T010839Z
UID:17637-1773248400-1773253800@yonseias.com
SUMMARY:Examining the Effectiveness of Popular Culture in Japanese Language Learning
DESCRIPTION:Professor Hiroshi Aoyagi\, The Faculty of International Studies\, Meiji Gakuin University \nAsian Studies Special Guest Lecture \nThe consumption of Japanese pop culture – otherwise known as “Cool Japan” since the beginning of the current millennium – has been much more evident in the contexts of language learning in South Korea than ever before. One could now find high school-\, college- and university students who demonstrate their enthusiasms in learning and communicating in Japanese language as a token of demonstrating their tastes for Japanese anime\, pop songs\, pop idols and popular mascots\, hotspots\, soul foods and/or traditional crafts. This is partly due to the Korean government’s lifting of the long post-Second World War ban of Japanese mass culture in 1998\, but more so to its recent pedagogical policies to use Japanese popular culture as an instrument for developing academic skills that can contribute to the navigation of complex interpersonal dynamics in our global era\, and in particular international relationships with neighboring Asian nation-states – Japan in this case. The 2007 curricular revision specifically encouraged the use of popular-cultural materials in Japanese textbooks and classrooms. In the current “interactive event\,” Aoyagi intends to ethnographically elaborate on such a circumstance in reference to an ongoing joint investigation since 2021\, and collaborate with everyone in the forum to examine the potentiality of using popular cultural materials in language learning and acquisition. The audience is asked to participate as workshop interviewees rather than as listeners of a presentation.
URL:https://yonseias.com/event/hiroshi-aoyagi-japanese-popular-culture-language-learning/
LOCATION:Veritas Hall B #319\, Underwood International Campus Songdo\, Yonsei University
ATTACH;FMTTYPE=image/jpeg:https://yonseias.com/wp-content/uploads/2026/02/d59e68df-918a-456e-a212-4168c952aa93-e1771634210937.jpeg
END:VEVENT
BEGIN:VEVENT
DTSTART;TZID=Asia/Seoul:20260407T170000
DTEND;TZID=Asia/Seoul:20260407T183000
DTSTAMP:20260422T020241
CREATED:20260314T073017Z
LAST-MODIFIED:20260314T073017Z
UID:17669-1775581200-1775586600@yonseias.com
SUMMARY:Ableism\, Disability\, and the Meaning of Life
DESCRIPTION:Join us for the Asian Studies Special Lecture\, “Ableism\, Disability\, and the Meaning of Life\,”\nby Dr Cui Fengming\, Senior Director for East Asia\, Harvard Law School Project on Disability\nDate & Time: 7 April 2026\, 17:00 – 18:30\nVenue: Veritas Hall B 319\, Underwood International Campus Songdo\, Yonsei University \nIn this talk\, Dr. Cui will introduce the dilemma of disability studies in addressing disability human rights issues when the fundamental meanings of disability and ability are under divided debate. The talk will be held together by the lived experience of persons with disabilities and point to the importance of interdisciplinary study to examine ableism’s influence in human experience with and without disability. \nFor more on Dr Cui’s areas of expertise\, please visit: https://hpod.law.harvard.edu/about/bio/cui
URL:https://yonseias.com/event/ableism-disability-and-the-meaning-of-life/
LOCATION:Veritas Hall B #319\, Underwood International Campus Songdo\, Yonsei University
ATTACH;FMTTYPE=image/jpeg:https://yonseias.com/wp-content/uploads/2026/03/Cui-Fengming-e1773473278727.jpg
END:VEVENT
END:VCALENDAR